BEGIN:VCALENDAR
VERSION:2.0
PRODID:-//Volt Europa//Events//EN
CALSCALE:GREGORIAN
METHOD:PUBLISH
BEGIN:VEVENT
UID:meet-greet-1715965200@voltnederland.org
DTSTAMP:20260423T113840Z
DTSTART;TZID=Europe/Amsterdam:20240517T190000
DTEND;TZID=Europe/Amsterdam:20240517T210000
SUMMARY:Meet & greet
DESCRIPTION:Meet & Greet in Groningen Ontmoet EP-kandidaten\, Volt-leden en
  sympathisanten in het pareltje van het Noorden. De ouders van Volt-lid Mar
 lene van Loo stellen er hun huis en tuin voor ter beschikking. In het centr
 um van Groningen\, dichtbij het station en geschikt voor de ontvangst van g
 rote groepen. Alle potentiële kiezers voor Volt uit de progressieve studen
 tenstad Groningen en omstreken nodigen we er uit. Marlene en familie hebben
  ook al enthousiaste reacties uit hun netwerk in de stad. Bovenal
LOCATION:Groningen
URL:https://voltnederland.org/groningen/agenda/meet-greet
END:VEVENT
END:VCALENDAR
