BEGIN:VCALENDAR
VERSION:2.0
PRODID:-//Volt Europa//Events//EN
CALSCALE:GREGORIAN
METHOD:PUBLISH
BEGIN:VEVENT
UID:masterclass-europese-unie-1746634500@voltnederland.org
DTSTAMP:20260423T102047Z
DTSTART;TZID=Europe/Amsterdam:20250507T181500
DTEND;TZID=Europe/Amsterdam:20250507T203000
SUMMARY:Webinar ‘Masterclass Europese Unie’
DESCRIPTION:-ENGLISH BELOW- Goed nieuws! Het webinar ‘Masterclass Europes
 e Unie’ wordt georganiseerd op woensdag 7 mei van 18.15 tot 20.30 uur in 
 Hotel Corps de Garde (Oude Boteringestraat 74\, Groningen)! Dit webinar wor
 dt georganiseerd door Volters van de Volt Academy. Ben jij erbij om samen m
 et andere Volters te kijken naar dit webinar en meer te leren over de EU en
  na de tijd hierover bij te praten met andere Volt leden?  Meer dan ooit mo
 eten we zoveel mogelijk weten over onze Europese Unie! We bespreken
LOCATION:Hotel Corps de Garde\, Oude Boteringestraat 74\, Groningen
URL:https://voltnederland.org/groningen/agenda/masterclass-europese-unie
END:VEVENT
END:VCALENDAR
