BEGIN:VCALENDAR
VERSION:2.0
PRODID:-//Volt Europa//Events//EN
CALSCALE:GREGORIAN
METHOD:PUBLISH
BEGIN:VEVENT
UID:lunch-met-de-kandidaten-van-volt-groningen-1769340600@voltnederland.org
DTSTAMP:20260424T031143Z
DTSTART;TZID=Europe/Amsterdam:20260125T123000
DTEND;TZID=Europe/Amsterdam:20260125T150000
SUMMARY:Lunch met de kandidaten van Volt Groningen
DESCRIPTION:Benieuwd wie Volt Groningen vertegenwoordigen bij de komende ve
 rkiezingen? Kom lunchen met onze kandidaten en ga met hen in gesprek over d
 e toekomst van Groningen. De kandidaten zijn benieuwd naar jouw verhaal en 
 jouw visie voor Groningen. Tijdens deze informele lunch is er volop ruimte 
 om ervaringen te delen\, vragen te stellen en elkaar beter te leren kennen.
  Of je nu al actief bent bij Volt of gewoon nieuwsgierig bent\, je bent van
  harte welkom. 📅 Datum: 25 januari\, 12:30 📍 Locatie: Pernikkel\, 
LOCATION:Pernikkel\, Groningen
URL:https://voltnederland.org/groningen/agenda/lunch-met-de-kandidaten-van-
 volt-groningen
END:VEVENT
END:VCALENDAR
