BEGIN:VCALENDAR
VERSION:2.0
PRODID:-//Volt Europa//Events//EN
CALSCALE:GREGORIAN
METHOD:PUBLISH
BEGIN:VEVENT
UID:kennismakingsborrel-met-kandidaat-lijsttrekker-1749661200@voltnederland
 .org
DTSTAMP:20260423T144354Z
DTSTART;TZID=Europe/Amsterdam:20250611T190000
DTEND;TZID=Europe/Amsterdam:20250611T210000
SUMMARY:Kennismakingsborrel met Kandidaat-lijsttrekker
DESCRIPTION:Op woensdagavond 11 juni organiseert Volt een informele borrel 
 in De Wolthoorn in Groningen. Tijdens deze avond kun je kennismaken met onz
 e lokale kandidaat-lijsttrekker ( Robin Twickler ) voor de komende gemeente
 raad verkiezingen. Heb je vragen over Volt\, wil je weten waar wij voor sta
 an\, of gewoon eens in gesprek met de mensen achter de beweging? Dan is dit
  een laagdrempelige en gezellige gelegenheid om langs te komen. De avond be
 gint om 19:00 uur en is open voor iedereen – leden\, geïnteressee
LOCATION:Café Wolthoorn & Co\, Turftorenstraat 6\, 9712 BP Groningen
URL:https://voltnederland.org/groningen/agenda/kennismakingsborrel-met-kand
 idaat-lijsttrekker
END:VEVENT
END:VCALENDAR
