BEGIN:VCALENDAR
VERSION:2.0
PRODID:-//Volt Europa//Events//EN
CALSCALE:GREGORIAN
METHOD:PUBLISH
BEGIN:VEVENT
UID:interne-campagne-evenement-lijsttrekkers-1750528800@voltnederland.org
DTSTAMP:20260421T220642Z
DTSTART;TZID=Europe/Amsterdam:20250621T200000
DTEND;TZID=Europe/Amsterdam:20250621T220000
SUMMARY:Q&A met de Kandidaat-Lijsttrekker
DESCRIPTION:Volt organiseert op zaterdagavond 21 juni een verdiepende Q&A m
 et Robin\, onze kandidaat-lijsttrekker voor de komende gemeenteraadsverkiez
 ingen. De bijeenkomst vindt plaats in Hotel Corps de Garde in Groningen en 
 begint om 20:00 uur. Deze avond is exclusief voor Volt-leden die de kandida
 at-lijsttrekker en haar visie op de gemeente beter willen leren kennen. Gee
 n speeches of campagnetaal\, maar een open gesprek waarin politieke inhoud 
 centraal staat. Je krijgt de ruimte om vragen te stellen over Ro
LOCATION:Hotel Corps de Garde\, Groningen
URL:https://voltnederland.org/groningen/agenda/interne-campagne-evenement-l
 ijsttrekkers
END:VEVENT
END:VCALENDAR
