BEGIN:VCALENDAR
VERSION:2.0
PRODID:-//Volt Europa//Events//EN
CALSCALE:GREGORIAN
METHOD:PUBLISH
BEGIN:VEVENT
UID:europadag-pubquiz-1715205600@voltnederland.org
DTSTAMP:20260423T102104Z
DTSTART;TZID=Europe/Amsterdam:20240509T000000
DTEND;TZID=Europe/Amsterdam:20240509T235900
SUMMARY:Europadag pubquiz
DESCRIPTION:Op 9 mei is het  Europadag . De dag dat 71 jaar geleden de eers
 te stap gezet werd naar een verenigd Europa. Natuurlijk een dag waar wij al
 s Europese partij samenkomen. Daarom organiseert Volt de Europese pubquiz: 
 Overal in Europa komen Volters lokaal bij elkaar om dezelfde pubquiz te spe
 len én Europa te vieren. Niet alleen leuk om te doen\, maar ook de perfect
 e kans om met nieuwe\, oude en potentiële leden bij elkaar te komen en act
 ief te worden! Op iedere locatie spelen de teams tegen elkaar voor
LOCATION:online
URL:https://voltnederland.org/groningen/agenda/europadag-pubquiz
END:VEVENT
END:VCALENDAR
