BEGIN:VCALENDAR
VERSION:2.0
PRODID:-//Volt Europa//Events//EN
CALSCALE:GREGORIAN
METHOD:PUBLISH
BEGIN:VEVENT
UID:europa-mars-voor-open-grenzen-samen-voor-een-verenigd-europa-1752912000
 @voltnederland.org
DTSTAMP:20260423T114549Z
DTSTART;TZID=Europe/Amsterdam:20250719T100000
DTEND;TZID=Europe/Amsterdam:20250719T190000
SUMMARY:Europa: Mars voor Open Grenzen – Samen voor een Verenigd Europa!
DESCRIPTION:Op 19 juli 2025 demonstreren we aan alle Duits-Europese binneng
 renzen voor naleving van het Schengenakkoord. Op 19 juli geeft Volt een kra
 chtig signaal voor vrijheid en solidariteit: tijdens de Mars voor Open Gren
 zen gaan we de straat op aan de grenzen en protesteren we tegen grenscontro
 les. Er zijn evenementen gepland in: Flensburg (Duitsland)\, Bad Nieuwescha
 ns (Nederland)\, Frankfurt (Oder) (Duitsland)\, Enschede - Gronau (Nederlan
 d)\, Schmilka (Duitsland)\, Aken - Vaals (Duitsland)\, Schengen - Ap
LOCATION:Europa - Diverse plaatsen (zie omschrijving)
URL:https://voltnederland.org/agenda/europa-mars-voor-open-grenzen-samen-vo
 or-een-verenigd-europa
END:VEVENT
END:VCALENDAR
