BEGIN:VCALENDAR
VERSION:2.0
PRODID:-//Volt Europa//Events//EN
CALSCALE:GREGORIAN
METHOD:PUBLISH
BEGIN:VEVENT
UID:eu-debate-why-should-you-vote-1716829200@voltnederland.org
DTSTAMP:20260423T102052Z
DTSTART;TZID=Europe/Amsterdam:20240527T190000
DTEND;TZID=Europe/Amsterdam:20240527T220000
SUMMARY:EU Debate: Why should you vote?
DESCRIPTION:As the European elections draw near\, Volt invites you to join 
 us for a crucial discussion on the future of Europe. On Thursday\, June 6th
 \, we'll be gathering alongside representatives from various European polit
 ical parties\, including our own Reinier van Lanschot\, to delve into the p
 ressing issues shaping our continent. From climate change to migration\, an
 d the geopolitical landscape\, the decisions made by members of the Europea
 n Parliament (MEPs) profoundly impact our lives. This event\, held in 
LOCATION:Forum Groningen
URL:https://voltnederland.org/agenda/eu-debate-why-should-you-vote
END:VEVENT
END:VCALENDAR
