BEGIN:VCALENDAR
VERSION:2.0
PRODID:-//Volt Europa//Events//EN
CALSCALE:GREGORIAN
METHOD:PUBLISH
BEGIN:VEVENT
UID:denk-europees-doe-lokaal-in-gesprek-met-reinier-van-lanschot-1769619600
 @voltnederland.org
DTSTAMP:20260423T212943Z
DTSTART;TZID=Europe/Amsterdam:20260128T180000
DTEND;TZID=Europe/Amsterdam:20260128T200000
SUMMARY:Denk Europees\, doe lokaal! In gesprek met Reinier van Lanschot
DESCRIPTION:Europese weerbaarheid in een veranderende geopolitieke context 
 Geopolitieke spanningen\, economische onzekerheden en maatschappelijke vera
 nderingen raken niet alleen landen en instellingen\, maar worden steeds voe
 lbaarder op lokaal niveau. Wat betekent dit voor onze steden en gemeenten? 
 En hoe kunnen zij juist nu het verschil maken? Op  woensdag 28 januari  ver
 welkomen we  Reinier van Lanschot  voor een verdiepend gesprek over  Europe
 se weerbaarheid . Reinier zal de avond openen met een korte pres
LOCATION:Oude Boteringestraat 72\, 9712 GN Groningen
URL:https://voltnederland.org/groningen/agenda/denk-europees-doe-lokaal-in-
 gesprek-met-reinier-van-lanschot
END:VEVENT
END:VCALENDAR
