BEGIN:VCALENDAR
VERSION:2.0
PRODID:-//Volt Europa//Events//EN
CALSCALE:GREGORIAN
METHOD:PUBLISH
BEGIN:VEVENT
UID:definitieve-uitslag-van-de-europese-verkiezingen-in-assen-1717954200@vo
 ltnederland.org
DTSTAMP:20260422T161344Z
DTSTART;TZID=Europe/Amsterdam:20240609T193000
DTEND;TZID=Europe/Amsterdam:20240609T220000
SUMMARY:Definitieve uitslag van de Europese verkiezingen in Assen
DESCRIPTION:Op 9 juni zijn Volters in Noord Nederland uitgenodigd in Liff i
 n Assen om de definitieve uitslag van de Europese verkiezingen te bekijken.
  Deze avond is er geen programma. Voel je vrij om ergens tussen 19.30 en 22
 .00 aan te sluiten voor een drankje en een gesprek.
LOCATION:Cafe Liff\, Brink 14\, 9401 HS Assen
URL:https://voltnederland.org/groningen/agenda/definitieve-uitslag-van-de-e
 uropese-verkiezingen-in-assen
END:VEVENT
END:VCALENDAR
