BEGIN:VCALENDAR
VERSION:2.0
PRODID:-//Volt Europa//Events//EN
CALSCALE:GREGORIAN
METHOD:PUBLISH
BEGIN:VEVENT
UID:congres-27-juni-2025-1751040000@voltnederland.org
DTSTAMP:20260421T094008Z
DTSTART;TZID=Europe/Amsterdam:20250627T180000
DTEND;TZID=Europe/Amsterdam:20250627T230000
SUMMARY:Congres Volt Groningen 27 juni 2025 - Lijsttrekkers editie!
DESCRIPTION:We willen je van harte uitnodigen voor het aankomende Groningse
  congres op 27 juni 2025 in de voormalig collegezaal van het scheikundig la
 boratorium van de Rijksuniversiteit Groningen. Locatie:  MeetLab\, Boterdie
 p 111\, 9712 LM Groningen . Op deze pagina vind je alle informatie over het
  congres. Haal hier je (gratis)  tickets ! Programma De agenda  is definiti
 ef rond op 20 juni\, 18:00. In de agenda vind je de planning van het congre
 s. Dit kan je onder andere verwachten: De verkiezingen voor de  l
LOCATION:MeetLab\, Boterdiep 111\, 9712 LM Groningen
URL:https://voltnederland.org/groningen/agenda/congres-27-juni-2025
END:VEVENT
END:VCALENDAR
