BEGIN:VCALENDAR
VERSION:2.0
PRODID:-//Volt Europa//Events//EN
CALSCALE:GREGORIAN
METHOD:PUBLISH
BEGIN:VEVENT
UID:congres-26-oktober-2024-1729936800@voltnederland.org
DTSTAMP:20260423T102218Z
DTSTART;TZID=Europe/Amsterdam:20241026T120000
DTEND;TZID=Europe/Amsterdam:20241026T170000
SUMMARY:Congres 26 oktober 2024
DESCRIPTION:We nodigen Volters in Groningen van harte uit voor dit congres 
 over de  afdelingsvorming van Volt Groningen .  We hebben een line-up van 
 twee sprekers met boeiende lezingen:  Egbert Dommerholt over Circulaire Eco
 nomy\, en Henk Hulshoff van LTO Noord.  En er zijn besluiten te nemen... De
   statuten van Volt Nederland  bieden ons de mogelijkheid de status van  Af
 deling  te krijgen\, met meer autonomie. Daarvoor moeten we wel aan een aan
 tal  voorwaarden  voldoen. Op dit congres gaan we daarover stemme
LOCATION:Grand Café Time Out\, Poelestraat 34-36\, 9712 KB Groningen
URL:https://voltnederland.org/groningen/agenda/congres-26-oktober-2024
END:VEVENT
END:VCALENDAR
