BEGIN:VCALENDAR
VERSION:2.0
PRODID:-//Volt Europa//Events//EN
CALSCALE:GREGORIAN
METHOD:PUBLISH
BEGIN:VEVENT
UID:congres-25maart25-1742923800@voltnederland.org
DTSTAMP:20260423T102053Z
DTSTART;TZID=Europe/Amsterdam:20250325T183000
DTEND;TZID=Europe/Amsterdam:20250325T210000
SUMMARY:Congres 25 maart 2025
DESCRIPTION:We nodigen Volters in Groningen van harte uit voor het Volt Gro
 ningen-congres.  Je kunt het congres online volgen via een YouTube-link die
  nog volgt. Agenda De voorlopige agenda vind je via de volgende  link . Moc
 ht de link niet werken\, is dit de volledige url:  https://docs.google.com/
 document/d/17JV-W_wbOZqLyN1XMP6tZeBwJoGThP-A2l8Al26Y72g/edit?usp=sharing He
 t programma is van  19.00-21.00 uur \, waarna er natuurlijk nog ruimte is o
 m gezellig met elkaar na te praten. 
LOCATION:Clubhuis voor Doven\, Munnekeholm 4\, 9711 JA Groningen
URL:https://voltnederland.org/groningen/agenda/congres-25maart25
END:VEVENT
END:VCALENDAR
