BEGIN:VCALENDAR
VERSION:2.0
PRODID:-//Volt Europa//Events//EN
CALSCALE:GREGORIAN
METHOD:PUBLISH
BEGIN:VEVENT
UID:bowlen-1718989200@voltnederland.org
DTSTAMP:20260423T101910Z
DTSTART;TZID=Europe/Amsterdam:20240621T190000
DTEND;TZID=Europe/Amsterdam:20240621T210000
SUMMARY:Vrijmibowl
DESCRIPTION:Op 21 juni gaan we samen de bowlingbaan onveilig maken en jij b
 ent van harte uitgenodigd om mee te doen. Voor slechts €6\,- p.p. kan je 
 genieten van een avond vol plezier en competitie. Na het bowlen volgt natuu
 rlijk onze gebruikelijke borrel op een nog nader te bepalen locatie\, waar 
 we samen kunnen napraten en proosten op een geslaagde avond. De inschrijvin
 g is inmiddels gesloten. Maar mocht je je daarna toch nog willen aanmelden\
 , kunnen we altijd kijken of er nog een baan beschikbaar is! We kij
LOCATION:Kattendiep 4 Groningen
URL:https://voltnederland.org/groningen/agenda/bowlen
END:VEVENT
END:VCALENDAR
