BEGIN:VCALENDAR
VERSION:2.0
PRODID:-//Volt Europa//Events//EN
CALSCALE:GREGORIAN
METHOD:PUBLISH
BEGIN:VEVENT
UID:beleidsavond-1731600000@voltnederland.org
DTSTAMP:20260423T113841Z
DTSTART;TZID=Europe/Amsterdam:20241114T170000
DTEND;TZID=Europe/Amsterdam:20241114T200000
SUMMARY:Beleidsavond
DESCRIPTION:Beleidsavond: denk mee over de toekomst! De beleidsavond is een
  avond waarin jouw stem centraal staat. Beleidsplannen worden concreet en l
 evendig tijdens deze interactieve bijeenkomst\, waarin we samen nadenken ov
 er de toekomst van onze gemeente en provincie. Samen maken we keuzes die ee
 n echte impact hebben en werken we aan plannen die ons dichter bij onze doe
 len brengen. Wat gaan we doen? Kennismaking  met elkaar en met Volt Groning
 en Terug- en vooruitblik  provinciale fractie Fractie  waar is 
LOCATION:De Wolthoorn\, Turftorenstraat 6\, Groningen
URL:https://voltnederland.org/groningen/agenda/beleidsavond
END:VEVENT
END:VCALENDAR
