BEGIN:VCALENDAR
VERSION:2.0
PRODID:-//Volt Europa//Events//EN
CALSCALE:GREGORIAN
METHOD:PUBLISH
BEGIN:VEVENT
UID:beleidsavond-feb2025correct-1738865700@voltnederland.org
DTSTAMP:20260423T102103Z
DTSTART;TZID=Europe/Amsterdam:20250206T191500
DTEND;TZID=Europe/Amsterdam:20250206T220000
SUMMARY:Beleidsavond
DESCRIPTION:Beleidsavond: denk mee over de toekomst! De beleidsavond is een
  avond waarin jouw stem centraal staat. Beleidsplannen worden concreet en l
 evendig tijdens deze interactieve bijeenkomst\, waarin we samen nadenken ov
 er de toekomst van onze gemeente en provincie. Samen maken we keuzes die ee
 n echte impact hebben en werken we aan plannen die ons dichter bij onze doe
 len brengen. Wat gaan we doen? Inloop vanaf 19.15 en om 19.30 start tot uit
 erlijk 22 uur. Desgewenst kunnen we na afloop nog doorpraten in
LOCATION:Provinciehuis\, ingang Turfsingel 83
URL:https://voltnederland.org/groningen/agenda/beleidsavond-feb2025correct
END:VEVENT
END:VCALENDAR
