BEGIN:VCALENDAR
VERSION:2.0
PRODID:-//Volt Europa//Events//EN
CALSCALE:GREGORIAN
METHOD:PUBLISH
BEGIN:VEVENT
UID:beleidsavond-8mei2025-1746723600@voltnederland.org
DTSTAMP:20260423T102134Z
DTSTART;TZID=Europe/Amsterdam:20250508T190000
DTEND;TZID=Europe/Amsterdam:20250508T220000
SUMMARY:Beleidsavond
DESCRIPTION:Beleidsavond: denk mee over de toekomst! De beleidsavond is een
  avond waarin jouw stem centraal staat. Beleidsplannen worden concreet en l
 evendig tijdens deze interactieve bijeenkomst\, waarin we samen nadenken ov
 er de toekomst van onze gemeente en provincie. Samen maken we keuzes die ee
 n echte impact hebben en werken we aan plannen die ons dichter bij onze doe
 len brengen. Wat gaan we doen? We gaan het basisstuk voor de gemeenteraadsv
 erkiezingen verder van Groningse input voorzien. Zie de stukken
LOCATION:Provinciehuis\, ingang Turfsingel 83
URL:https://voltnederland.org/groningen/agenda/beleidsavond-8mei2025
END:VEVENT
END:VCALENDAR
