BEGIN:VCALENDAR
VERSION:2.0
PRODID:-//Volt Europa//Events//EN
CALSCALE:GREGORIAN
METHOD:PUBLISH
BEGIN:VEVENT
UID:beleidsavond-3-1742494500@voltnederland.org
DTSTAMP:20260423T101921Z
DTSTART;TZID=Europe/Amsterdam:20250320T191500
DTEND;TZID=Europe/Amsterdam:20250320T220000
SUMMARY:Beleidsavond
DESCRIPTION:Beleidsavond: denk mee over de toekomst! De beleidsavond is een
  avond waarin jouw stem centraal staat. Beleidsplannen worden concreet en l
 evendig tijdens deze interactieve bijeenkomst\, waarin we samen nadenken ov
 er de toekomst van onze gemeente en provincie. Samen maken we keuzes die ee
 n echte impact hebben en werken we aan plannen die ons dichter bij onze doe
 len brengen. Wat gaan we doen? TBA Voor wie? Deze avonden zijn toegankelijk
  voor alle Volters met interesse in beleid.  Waarom? Op de avon
LOCATION:Provinciehuis | ingang: Turfsingel 83\, Groningen
URL:https://voltnederland.org/groningen/agenda/beleidsavond-3
END:VEVENT
END:VCALENDAR
