BEGIN:VCALENDAR
VERSION:2.0
PRODID:-//Volt Europa//Events//EN
CALSCALE:GREGORIAN
METHOD:PUBLISH
BEGIN:VEVENT
UID:beleidsavond-2-1736446500@voltnederland.org
DTSTAMP:20260423T144048Z
DTSTART;TZID=Europe/Amsterdam:20250109T191500
DTEND;TZID=Europe/Amsterdam:20250109T220000
SUMMARY:Beleidsavond
DESCRIPTION:Beleidsavond: denk mee over de toekomst! De beleidsavond is een
  avond waarin jouw stem centraal staat. Beleidsplannen worden concreet en l
 evendig tijdens deze interactieve bijeenkomst\, waarin we samen nadenken ov
 er de toekomst van onze gemeente en provincie. Samen maken we keuzes die ee
 n echte impact hebben en werken we aan plannen die ons dichter bij onze doe
 len brengen. Wat gaan we doen? Kennismaking  met elkaar Terug- en vooruitbl
 ik  provinciale fractie GRV26 Landelijk sjabloon Inventarisatie
LOCATION:Provinciehuis | ingang: Turfsingel 83\, Groningen
URL:https://voltnederland.org/groningen/agenda/beleidsavond-2
END:VEVENT
END:VCALENDAR
