BEGIN:VCALENDAR
VERSION:2.0
PRODID:-//Volt Europa//Events//EN
CALSCALE:GREGORIAN
METHOD:PUBLISH
BEGIN:VEVENT
UID:wur-verkiezingsmarkt-1716458400@voltnederland.org
DTSTAMP:20260423T114410Z
DTSTART;TZID=Europe/Amsterdam:20240523T120000
DTEND;TZID=Europe/Amsterdam:20240523T140000
SUMMARY:WUR verkiezingsmarkt
DESCRIPTION:Op Wageningen Campus is dit jaar een verkiezingsmarkt voor het 
 Europees Parlement. Dit jaar zal het plaatsvinden in het atrium van het For
 umgebouw van Wageningen Campus. Alle politieke partijen die op de kieslijst
  staan zijn welkom om deel te nemen. Volt zal worden vertegenwoordigd door 
  Teun Janssen  en  Anouk Ooms \, nummer 3 en 6 op de kandidatenlijst.
LOCATION:Droevendaalsesteeg 2\, 6708 PB Wageningen
URL:https://voltnederland.org/gelderland/agenda/wur-verkiezingsmarkt
END:VEVENT
END:VCALENDAR
