BEGIN:VCALENDAR
VERSION:2.0
PRODID:-//Volt Europa//Events//EN
CALSCALE:GREGORIAN
METHOD:PUBLISH
BEGIN:VEVENT
UID:werksessie-beleidsprogramma-wageningen-1751716800@voltnederland.org
DTSTAMP:20260423T143255Z
DTSTART;TZID=Europe/Amsterdam:20250705T140000
DTEND;TZID=Europe/Amsterdam:20250705T170000
SUMMARY:Werksessie Beleidsprogramma Wageningen
DESCRIPTION:Op deze bijeenkomst gaan we in kleine groepjes aan de slag met 
 de eerste helft van de thema’s uit ons programma: Woningen Energie & Klim
 aat Gezonde & mooie leefomgeving Welvaart Bereikbaarheid Onderwijs Per them
 a gaan we brainstormen over hoe we ideeën  concreet  kunnen maken: welke
  uitvoerbare stappen zijn er\, en welke onderwerpen horen daarbij? Het is b
 ijvoorbeeld goed om een scherp beeld te hebben van welke elementen in onze 
 samenleving worden geraakt als we een aanpassing doen. Zo zorgen we 
LOCATION:Wageningen (exacte locatie volgt na aanmelding)
URL:https://voltnederland.org/gelderland/agenda/werksessie-beleidsprogramma
 -wageningen
END:VEVENT
END:VCALENDAR
