BEGIN:VCALENDAR
VERSION:2.0
PRODID:-//Volt Europa//Events//EN
CALSCALE:GREGORIAN
METHOD:PUBLISH
BEGIN:VEVENT
UID:werksessie-beleid-en-borrel-wageningen-1752933600@voltnederland.org
DTSTAMP:20260423T114442Z
DTSTART;TZID=Europe/Amsterdam:20250719T160000
DTEND;TZID=Europe/Amsterdam:20250719T210000
SUMMARY:📄+🍻 Werksessie "Beleid en Borrel" Wageningen
DESCRIPTION:Een informele en gezellige avond om samen te eten\, bij te prat
 en en ideeën uit te wisselen.  Neem iets lekkers te eten en te drinken me
 e om te delen  — zelfgemaakt of gekocht\, alles is welkom. Wij zullen zo
 rgen voor de basis. De onderwerpen die we deze sessie gaan verdiepen: Gezon
 dheid Veiligheid Cultuur\, sport en recreatie Slimme en digitale gemeente M
 igratie en integratie Democratische vernieuwing Overige onderwerpen Per the
 ma gaan we brainstormen over hoe we ideeën  concreet  kunnen maken: we
LOCATION:Wageningen (exacte locatie volgt na aanmelding)
URL:https://voltnederland.org/gelderland/agenda/werksessie-beleid-en-borrel
 -wageningen
END:VEVENT
END:VCALENDAR
