BEGIN:VCALENDAR
VERSION:2.0
PRODID:-//Volt Europa//Events//EN
CALSCALE:GREGORIAN
METHOD:PUBLISH
BEGIN:VEVENT
UID:vrouwen-actief-in-de-politiek-1751564700@voltnederland.org
DTSTAMP:20260423T114415Z
DTSTART;TZID=Europe/Amsterdam:20250703T194500
DTEND;TZID=Europe/Amsterdam:20250703T210000
SUMMARY:GEANNULEERD Vrouwen actief in de politiek
DESCRIPTION:Dit evenement is helaas geannuleerd! Wij proberen het in het na
 jaar te organiseren. Sorry. Meld je hier aan voor het evenement! Informatie
 bijeenkomst over meer vrouwen in de gemeentepolitiek: zet de eerste stap. 
  Op donderdag 3 juli 2025 organiseren wij vanuit Volt Nijmegen een avond ge
 heel in het teken van vrouwen in de politiek\, met een focus op vrouwen die
  per 2026 in de gemeenteraad willen zitten. Deze avond vindt plaats van 19:
 45 tot 21:30 bij het Roze Huis (St. Anthoniusplaats 1 te Nijmege
LOCATION:het Roze Huis (St. Anthoniusplaats 1 te Nijmegen)
URL:https://voltnederland.org/gelderland/agenda/vrouwen-actief-in-de-politi
 ek
END:VEVENT
END:VCALENDAR
