BEGIN:VCALENDAR
VERSION:2.0
PRODID:-//Volt Europa//Events//EN
CALSCALE:GREGORIAN
METHOD:PUBLISH
BEGIN:VEVENT
UID:voorjaarsmeet-up-volt-rivierenland-1715364000@voltnederland.org
DTSTAMP:20260423T114913Z
DTSTART;TZID=Europe/Amsterdam:20240510T200000
DTEND;TZID=Europe/Amsterdam:20240510T220000
SUMMARY:Voorjaarsmeet-up Volt Rivierenland
DESCRIPTION:Wil jij graag Volters ontmoeten uit de regio Rivierenland en me
 t hen praten over de lokale politiek\, de aankomende Europese verkiezingen 
 of juist alles wat er speelt in de tweede kamer? Je bent van harte welkom b
 ij de voorjaarsmeet-up van Volt Rivierenland in Una Volta in Culemborg (aan
  het stations einde van de Gelderlandfabriek\,  https://www.unavolta.nl/ ).
  Iedereen is welkom\, ook als je (nog) geen lid bent. Het eerste drankje wo
 rdt betaald door Volt Rivierenland.  Aanmelden en meer informatie
LOCATION:Una Volta\, Stationsweg 7\, 4101 NG Culemborg
URL:https://voltnederland.org/agenda/voorjaarsmeet-up-volt-rivierenland
END:VEVENT
END:VCALENDAR
