BEGIN:VCALENDAR
VERSION:2.0
PRODID:-//Volt Europa//Events//EN
CALSCALE:GREGORIAN
METHOD:PUBLISH
BEGIN:VEVENT
UID:volt-veluwe-noord-herstart-1715362200@voltnederland.org
DTSTAMP:20260423T142859Z
DTSTART;TZID=Europe/Amsterdam:20240510T193000
DTEND;TZID=Europe/Amsterdam:20240510T220000
SUMMARY:Volt Veluwe Noord herstart!
DESCRIPTION:Na een stille periode in Volt Apeldoorn/Oost Veluwe zijn we een
  nieuwe appgroep gestart en hebben 10 mei onze eerste brainstormbijeenkomst
 ! Tijd voor actie ook in deze community en\, gezien het postcodegebied\, ee
 n nieuwe naam. Wil je bij onze appgroep en/of bij onze brainstormbijeenkoms
 t aanwezig zijn\, stuur dan een bericht naar  veluwenoord@voltnederland.org
  Het aantal plaatsen voor 10 mei is beperkt dus meld je snel aan!
LOCATION:Apeldoorn
URL:https://voltnederland.org/gelderland/agenda/volt-veluwe-noord-herstart
END:VEVENT
END:VCALENDAR
