BEGIN:VCALENDAR
VERSION:2.0
PRODID:-//Volt Europa//Events//EN
CALSCALE:GREGORIAN
METHOD:PUBLISH
BEGIN:VEVENT
UID:volt-nijmegen-voert-campagne-en-belt-de-leden-met-pizza-1760259600@volt
 nederland.org
DTSTAMP:20260423T114549Z
DTSTART;TZID=Europe/Amsterdam:20251012T110000
DTEND;TZID=Europe/Amsterdam:20251012T180000
SUMMARY:Volt Nijmegen voert campagne én belt de leden (met pizza!)
DESCRIPTION:Zondag 12 oktober zijn wij 's ochtends vanaf 11u in de stad aan
  het flyeren. Wij ontmoeten elkaar bij het standbeeld van Mariken op de Gro
 te Markt. 's Middags bellen wij vanaf 14u de leden van Volt in Nijmegen om 
 hen enthousiast te maken om ons in de weekenden hierna te helpen met flyere
 n\, of om flyers in hun buurt rond te brengen\, óf om geld te doneren voor
  onze campagne in Nijmegen. Wij eten met zijn allen pizza met een drankje e
 rbij na afloop\, dus dat belooft heel gezellig te worden. Wij hebb
LOCATION:Grote Markt\, 6511 KA Nijmegen
URL:https://voltnederland.org/gelderland/agenda/volt-nijmegen-voert-campagn
 e-en-belt-de-leden-met-pizza
END:VEVENT
END:VCALENDAR
