BEGIN:VCALENDAR
VERSION:2.0
PRODID:-//Volt Europa//Events//EN
CALSCALE:GREGORIAN
METHOD:PUBLISH
BEGIN:VEVENT
UID:volt-ledenavond-in-gemeente-berg-en-dal-1751392800@voltnederland.org
DTSTAMP:20260423T144420Z
DTSTART;TZID=Europe/Amsterdam:20250701T200000
DTEND;TZID=Europe/Amsterdam:20250701T220000
SUMMARY:Volt ledenavond in gemeente Berg en Dal
DESCRIPTION:Op dinsdag 1 juli houden wij voor de tweede keer een laagdrempe
 lige avond voor Volt-leden in gemeente Berg en Dal. Wij willen iets drinken
  terwijl wij lokale/nationale/Europese politiek bespreken en elkaar beter l
 eren kennen. Kom jij ook?  Waar: Hotel-café Sous les Eglises (Rijksstraatw
 eg 124\, Beek) Wanneer: dinsdag 1 juli vanaf 20:00 Wie: Volt-leden\, maar g
 asten zijn ook welkom!
LOCATION:cafe Sous les Eglises in Beek
URL:https://voltnederland.org/gelderland/agenda/volt-ledenavond-in-gemeente
 -berg-en-dal
END:VEVENT
END:VCALENDAR
