BEGIN:VCALENDAR
VERSION:2.0
PRODID:-//Volt Europa//Events//EN
CALSCALE:GREGORIAN
METHOD:PUBLISH
BEGIN:VEVENT
UID:volt-ledenavond-in-berg-en-dal-1758650400@voltnederland.org
DTSTAMP:20260423T131610Z
DTSTART;TZID=Europe/Amsterdam:20250923T200000
DTEND;TZID=Europe/Amsterdam:20250923T213000
SUMMARY:Volt ledenavond in Berg en Dal
DESCRIPTION:Op dinsdag 23 september houden wij voor de derde keer alweer ee
 n laagdrempelige avond voor Volt-leden in gemeente Berg en Dal. Wij willen 
 iets drinken terwijl wij lokale/nationale/Europese politiek bespreken en el
 kaar beter leren kennen. Kom jij ook?  Waar: Hotel-café Sous les Eglises (
 Rijksstraatweg 124\, Beek) Wanneer: dinsdag 23 september vanaf 20:00 Wie: V
 olt-leden\, maar gasten zijn ook welkom!
LOCATION:cafe Sous les Eglises in Beek
URL:https://voltnederland.org/gelderland/agenda/volt-ledenavond-in-berg-en-
 dal
END:VEVENT
END:VCALENDAR
