BEGIN:VCALENDAR
VERSION:2.0
PRODID:-//Volt Europa//Events//EN
CALSCALE:GREGORIAN
METHOD:PUBLISH
BEGIN:VEVENT
UID:volt-gelderland-congres-dec-2025-1765629000@voltnederland.org
DTSTAMP:20260423T061257Z
DTSTART;TZID=Europe/Amsterdam:20251213T133000
DTEND;TZID=Europe/Amsterdam:20251213T170000
SUMMARY:Volt Gelderland congres dec 2025
DESCRIPTION:Congres Volt Gelderland – Uitnodiging!   Op 13 december orga
 niseert Volt Gelderland haar provinciale congres!    We kijken terug op d
 e landelijke verkiezingen\, praten over de toekomst van onze gemeenten\, ki
 ezen onze kandidaten en delen inspirerende ideeën over hoe we samen bouwe
 n aan een sterk\, duurzaam en verenigd Europa – ook lokaal.  Wil je ken
 nismaken met Volt of meer te weten komen over Volt in Gelderland?  Kom la
 ngs\, ontmoet onze leden en proef de sfeer!  Aanmelden doe je  hier. 13 d
 ecembe
LOCATION:Gelderland
URL:https://voltnederland.org/gelderland/agenda/volt-gelderland-congres-dec
 -2025
END:VEVENT
END:VCALENDAR
