BEGIN:VCALENDAR
VERSION:2.0
PRODID:-//Volt Europa//Events//EN
CALSCALE:GREGORIAN
METHOD:PUBLISH
BEGIN:VEVENT
UID:volt-doetinchem-neemt-deel-aan-verkiezingsdebat-met-als-thema-ouderen-1
 772278200@voltnederland.org
DTSTAMP:20260425T130351Z
DTSTART;TZID=Europe/Amsterdam:20260228T123000
DTEND;TZID=Europe/Amsterdam:20260228T143000
SUMMARY:Volt Doetinchem neemt deel aan verkiezingsdebat met als thema Ouder
 en
DESCRIPTION:Tijdens het debat gaan vertegenwoordigers van negen politieke p
 artijen met elkaar in gesprek over de toekomst van het ouderenbeleid in Doe
 tinchem\, aan de hand van vier prikkelende stellingen. Aansluitend krijgen 
 de bezoekers ruimschoots de gelegenheid om in gesprek te gaan met de afzond
 erlijke politieke partijen en vragen te stellen. 
LOCATION:IJsselkade 13\, 7001 AN Doetinchem\, Nederland
URL:https://voltnederland.org/gelderland/agenda/volt-doetinchem-neemt-deel-
 aan-verkiezingsdebat-met-als-thema-ouderen
END:VEVENT
END:VCALENDAR
