BEGIN:VCALENDAR
VERSION:2.0
PRODID:-//Volt Europa//Events//EN
CALSCALE:GREGORIAN
METHOD:PUBLISH
BEGIN:VEVENT
UID:volt-borrel-in-gemeente-berg-en-dal-1747330200@voltnederland.org
DTSTAMP:20260423T131449Z
DTSTART;TZID=Europe/Amsterdam:20250515T193000
DTEND;TZID=Europe/Amsterdam:20250515T213000
SUMMARY:Volt borrel in gemeente Berg en Dal
DESCRIPTION:Wij nodigen Volt-leden uit de regio Berg en Dal graag uit om aa
 nwezig te zijn bij een Volt borrel in jullie gemeente. Deze bijeenkomst is 
 inmiddels volgende week donderdag 15 mei alweer\, dus dit is een herinnerin
 g dat jullie allen van harte welkom zijn om aan te sluiten.  De avond is b
 edoeld om andere Volt-leden te leren kennen\, en te spreken over hoe Volt m
 ogelijk in de toekomst actief zou kunnen worden in jullie gemeente.  Waar: 
 Hotel-café Sous les Eglises (Rijksstraatweg 124) Wanneer: donderd
LOCATION:Hotel-café Sous les Eglises (Rijksstraatweg 124)
URL:https://voltnederland.org/gelderland/agenda/volt-borrel-in-gemeente-ber
 g-en-dal
END:VEVENT
END:VCALENDAR
