BEGIN:VCALENDAR
VERSION:2.0
PRODID:-//Volt Europa//Events//EN
CALSCALE:GREGORIAN
METHOD:PUBLISH
BEGIN:VEVENT
UID:violet-pubquiz-1758045600@voltnederland.org
DTSTAMP:20260423T102052Z
DTSTART;TZID=Europe/Amsterdam:20250916T200000
DTEND;TZID=Europe/Amsterdam:20250916T220000
SUMMARY:Violet Pubquiz🧩🍻
DESCRIPTION:Violet is het jongerennetwerk van Volt dat een veilige\, drempe
 lloze en inclusieve omgeving biedt\, waar jongeren elkaar kunnen ontmoeten\
 , ervaringen kunnen uitwisselen en kennis kunnen maken met de partij. Afgel
 open januari organiseerde Volt Foodvalley samen met Violet een borrel. Dit 
 was een groot succes en daarom organiseren wij in september samen een pubqu
 iz.    Ben je (ongeveer) 26 jaar of jonger en ben je lid van Volt of wil 
 je dat worden? Kom dan gezellig langs en wie weet win je een mooie 
LOCATION:Heerenstraat Theater Wageningen
URL:https://voltnederland.org/gelderland/agenda/violet-pubquiz
END:VEVENT
END:VCALENDAR
