BEGIN:VCALENDAR
VERSION:2.0
PRODID:-//Volt Europa//Events//EN
CALSCALE:GREGORIAN
METHOD:PUBLISH
BEGIN:VEVENT
UID:verkiezingsdebat-met-volt-doetinchem-over-en-met-het-doetinchemse-bedri
 jfsleven-1772645400@voltnederland.org
DTSTAMP:20260425T130136Z
DTSTART;TZID=Europe/Amsterdam:20260304T183000
DTEND;TZID=Europe/Amsterdam:20260304T210000
SUMMARY:Verkiezingsdebat met Volt Doetinchem over en met het Doetinchemse b
 edrijfsleven
DESCRIPTION:Volt Doetinchem is aanwezig op het IG&D–MKB–Verkiezingsdeba
 t\, een special edition van het traditionele verkiezingsdebat\, waarin onde
 rnemers en politiek elkaar recht in de ogen kijken. In het altijd gezellige
  Streeckgenoot gaan de lijsttrekkers van maar liefst tien (!!) partijen in 
 debat over vier thema’s\, die voor bijna elke ondernemer dagelijks voorbi
 j komen: regelgeving\, ruimtelijke ordening\, ruimte voor bedrijven en arbe
 idspotentieel. Het geheel staat onder de enthousiaste leiding van Erik Ha
LOCATION:Streeckgenoot\, Spinbaan 21a\, 7005 AD Doetinchem\, Nederland
URL:https://voltnederland.org/gelderland/agenda/verkiezingsdebat-met-volt-d
 oetinchem-over-en-met-het-doetinchemse-bedrijfsleven
END:VEVENT
END:VCALENDAR
