BEGIN:VCALENDAR
VERSION:2.0
PRODID:-//Volt Europa//Events//EN
CALSCALE:GREGORIAN
METHOD:PUBLISH
BEGIN:VEVENT
UID:verkiezingsavond-volt-gelderland-1715018400@voltnederland.org
DTSTAMP:20260423T114538Z
DTSTART;TZID=Europe/Amsterdam:20240506T200000
DTEND;TZID=Europe/Amsterdam:20240506T235900
SUMMARY:Verkiezingsavond Volt Gelderland
DESCRIPTION:De Europese Unie is geboren na het einde van de Tweede Wereldo
 orlog. Verkiezingsavond vieren wij dus graag met jullie tegenover de plek
  waar de oorlog in Gelderland werd afgesloten. Wil je met ons genieten van 
 een drankje en gezelligheid in Proost! in Wageningen\, tegenover Hotel De 
 Wereld. We kunnen nauwelijks wachten om deze spannende avond met jullie te 
 delen en samen de eerste exit polls te bekijken!  Proost! 5 Mei plein 13 6
 701 DW Wageningen
LOCATION:5 Mei Plein 13\, 6701 DW Wageningen
URL:https://voltnederland.org/gelderland/agenda/verkiezingsavond-volt-gelde
 rland
END:VEVENT
END:VCALENDAR
