BEGIN:VCALENDAR
VERSION:2.0
PRODID:-//Volt Europa//Events//EN
CALSCALE:GREGORIAN
METHOD:PUBLISH
BEGIN:VEVENT
UID:verkiezingsavond-gelderland-1717695000@voltnederland.org
DTSTAMP:20260423T114538Z
DTSTART;TZID=Europe/Amsterdam:20240606T193000
DTEND;TZID=Europe/Amsterdam:20240606T230000
SUMMARY:Verkiezingsavond Gelderland
DESCRIPTION:De Europese Unie is geboren na het einde van de Tweede Wereldo
 orlog. Verkiezingsavond vieren wij dus graag met jullie tegenover de plek
  waar de oorlog in Gelderland werd afgesloten. Wil je met ons genieten van 
 een drankje en gezelligheid in Proost! in Wageningen\, tegenover Hotel De 
 Wereld. We kunnen nauwelijks wachten om deze spannende avond met jullie te 
 delen en samen de eerste exit polls te bekijken!  Voor vragen of meer info
 rmatie\, neem dan  contact met ons op.
LOCATION:5 Mei plein 13\, 6701 DW\, Wageningen
URL:https://voltnederland.org/gelderland/agenda/verkiezingsavond-gelderland
END:VEVENT
END:VCALENDAR
