BEGIN:VCALENDAR
VERSION:2.0
PRODID:-//Volt Europa//Events//EN
CALSCALE:GREGORIAN
METHOD:PUBLISH
BEGIN:VEVENT
UID:verkiezingen-in-gelderland-en-de-volt-campagne-1757007000@voltnederland
 .org
DTSTAMP:20260423T114544Z
DTSTART;TZID=Europe/Amsterdam:20250904T193000
DTEND;TZID=Europe/Amsterdam:20250904T230000
SUMMARY:Verkiezingen in Gelderland en de Volt campagne
DESCRIPTION:💜Volt’s campagne\, lijsttrekkers & kandidaten – op 4 sep
 tember in Arnhem! 💜 Alle Gelderse lijsttrekkers voor de gemeenteraadsver
 kiezingen\, alle Gelderse Tweede Kamerkandidaten én nr. 3 & nr. 4 van de l
 andelijke lijst zijn erbij. Deze avond wil je niet missen! 🗓️ Donderda
 g 4 september 2025 📍 Posttheater\, Arnhem | ⏰ Inloop: 19:30 | Start: 2
 0:00 Kom vooral met het OV\, dat is duurzaam! Dan houden we de beperkte par
 keergelegenheid beschikbaar voor iedereen voor wie OV geen optie is. We mak
 en ons op vo
LOCATION:Posttheater in Arnhem (Rosendaalsestraat 27)
URL:https://voltnederland.org/agenda/verkiezingen-in-gelderland-en-de-volt-
 campagne
END:VEVENT
END:VCALENDAR
