BEGIN:VCALENDAR
VERSION:2.0
PRODID:-//Volt Europa//Events//EN
CALSCALE:GREGORIAN
METHOD:PUBLISH
BEGIN:VEVENT
UID:veluwe-noord-uitslagenavond-tkv-1761764400@voltnederland.org
DTSTAMP:20260423T143707Z
DTSTART;TZID=Europe/Amsterdam:20251029T200000
DTEND;TZID=Europe/Amsterdam:20251029T230000
SUMMARY:Veluwe Noord Uitslagenavond TKv
DESCRIPTION:Apeldoorners en leden en belangstellenden uit de wijde omgeving
 !  Wees van harte welkom vanaf 20 uur bij Finnegan's om gezamenlijk de uits
 lagen van de Tweede Kamerverkiezingen te volgen! Met een borrel en een hapj
 e in onze eigen ruimte wachten we samen de exitpolls af. Toegang is gratis 
 en het eerste drankje is op kosten van de community. Graag even aanmelden v
 ia de aanmeldknop. Vier het feest van de democratie met ons mee!
LOCATION:Finnegan's Irish Pub\, Hoofdstraat 176\, Apeldoorn
URL:https://voltnederland.org/agenda/veluwe-noord-uitslagenavond-tkv
END:VEVENT
END:VCALENDAR
