BEGIN:VCALENDAR
VERSION:2.0
PRODID:-//Volt Europa//Events//EN
CALSCALE:GREGORIAN
METHOD:PUBLISH
BEGIN:VEVENT
UID:veluwe-noord-campagneaftrap-met-michael-teng-li-tai-1758907800@voltnede
 rland.org
DTSTAMP:20260423T114543Z
DTSTART;TZID=Europe/Amsterdam:20250926T193000
DTEND;TZID=Europe/Amsterdam:20250926T220000
SUMMARY:Veluwe Noord campagneaftrap met Michael Teng-Li Tai
DESCRIPTION:De vierde vrijdagavond van september gebruiken we voor de aftra
 p van onze Veluwe Noord-campagne voor de Tweede Kamerverkiezingen!  Een van
  onze TK-kandidaten\, Michael Teng-Li Tai ( https://voltnederland.org/mense
 n/17-michael-teng-li-tai ) zal ons ter inspiratie toespreken!  Trek zoveel 
 mogelijk paars aan\, maar ook zonder dat ben je van harte welkom in Apeldoo
 rn om onze plannen te horen\, nieuwe ideeën te brengen en halen en concret
 e afspraken te maken. Graag tot ziens op 26 september !! Als je al
LOCATION:Kantine AV34\, Sportpark Orderbos 19\, 7313HN Apeldoorn
URL:https://voltnederland.org/agenda/veluwe-noord-campagneaftrap-met-michae
 l-teng-li-tai
END:VEVENT
END:VCALENDAR
