BEGIN:VCALENDAR
VERSION:2.0
PRODID:-//Volt Europa//Events//EN
CALSCALE:GREGORIAN
METHOD:PUBLISH
BEGIN:VEVENT
UID:uitslagenavond-in-arnhem-1761764400@voltnederland.org
DTSTAMP:20260423T114049Z
DTSTART;TZID=Europe/Amsterdam:20251029T200000
DTEND;TZID=Europe/Amsterdam:20251029T230000
SUMMARY:Uitslagenavond in Arnhem!
DESCRIPTION:Ook deze Tweede Kamerverkiezingen wordt er weer een uitslagenav
 ond georganiseerd in Arnhem. En ook Volt is weer van de partij.  Na eerder
 e succesvolle edities op verschillende locaties belooft het ook dit keer we
 er een bijzondere avond te worden. Je kunt rekenen op een aangeklede zaal\,
  grote schermen\, een politieke pubquiz\, een live-verbinding met het gemee
 ntehuis én een feestelijk slot met DJ. Verschillende andere partijen zulle
 n ook aanwezig zijn. Het belooft een gezellige en spannende avond t
LOCATION:Café 't Huys\, Korenmarkt 13\, 6811 GV Arnhem
URL:https://voltnederland.org/gelderland/agenda/uitslagenavond-in-arnhem
END:VEVENT
END:VCALENDAR
