BEGIN:VCALENDAR
VERSION:2.0
PRODID:-//Volt Europa//Events//EN
CALSCALE:GREGORIAN
METHOD:PUBLISH
BEGIN:VEVENT
UID:uitslagenavond-gemeenteraadsverkiezingen-1773860400@voltnederland.org
DTSTAMP:20260424T190703Z
DTSTART;TZID=Europe/Amsterdam:20260318T200000
DTEND;TZID=Europe/Amsterdam:20260318T220000
SUMMARY:Uitslagenavond gemeenteraadsverkiezingen
DESCRIPTION:Na de grv op 18 maart kun je de uitslag in het gemeentehuis vol
 gen. Kom samen met andere Volters de uitslag afwachten. Houd de Signal en W
 hatsapp groepen in de gaten voor de laatste info.
LOCATION:Stadhuis Arnhem\, Koningstraat 38\, 6811 DG Arnhem
URL:https://voltnederland.org/gelderland/agenda/uitslagenavond-gemeenteraad
 sverkiezingen
END:VEVENT
END:VCALENDAR
