BEGIN:VCALENDAR
VERSION:2.0
PRODID:-//Volt Europa//Events//EN
CALSCALE:GREGORIAN
METHOD:PUBLISH
BEGIN:VEVENT
UID:uitslagenavond-gemeenteraadsverkiezingen-nijmegen-grv26-1773867600@volt
 nederland.org
DTSTAMP:20260423T061536Z
DTSTART;TZID=Europe/Amsterdam:20260318T220000
DTEND;TZID=Europe/Amsterdam:20260319T010000
SUMMARY:Uitslagenavond gemeenteraadsverkiezingen
DESCRIPTION:Nadat de stembussen sluiten op 18 maart kun je de uitslag in he
 t gemeentehuis volgen. Kom samen met andere Volters de uitslag afwachten. H
 oud de Signal en Whatsapp groepen in de gaten voor de laatste info.
LOCATION:Stadhuis Nijmegen (Korte Nieuwstraat 6)
URL:https://voltnederland.org/gelderland/agenda/uitslagenavond-gemeenteraad
 sverkiezingen-nijmegen-grv26
END:VEVENT
END:VCALENDAR
