BEGIN:VCALENDAR
VERSION:2.0
PRODID:-//Volt Europa//Events//EN
CALSCALE:GREGORIAN
METHOD:PUBLISH
BEGIN:VEVENT
UID:themaborrel-basisinkomen-1750874400@voltnederland.org
DTSTAMP:20260424T012807Z
DTSTART;TZID=Europe/Amsterdam:20250625T200000
DTEND;TZID=Europe/Amsterdam:20250625T213000
SUMMARY:Themaborrel basisinkomen
DESCRIPTION:Op 25 juni is de eerstvolgende editie van onze themaborrels. Di
 t keer gaan we het hebben over het basisinkomen. Om deze avond in dit thema
  te kunnen duiken\, hebben we Marja Brouwer van de werkgroep ‘Nieuw socia
 alfiscaal stelsel met basisinkomen’ uitgenodigd. Zij hebben een beleidsvo
 orstel gemaakt waarin ze beschrijven dat een basisinkomen echt mogelijk is.
   Na een korte presentatie waarin Marja zal uitleggen wat er in het beleid
 svoorstel staat\, gaan we hier samen over in gesprek. Want wat is een
LOCATION:Wageningen
URL:https://voltnederland.org/gelderland/agenda/themaborrel-basisinkomen
END:VEVENT
END:VCALENDAR
