BEGIN:VCALENDAR
VERSION:2.0
PRODID:-//Volt Europa//Events//EN
CALSCALE:GREGORIAN
METHOD:PUBLISH
BEGIN:VEVENT
UID:themabijeenkomst-over-wonen-1741285800@voltnederland.org
DTSTAMP:20260423T143352Z
DTSTART;TZID=Europe/Amsterdam:20250306T193000
DTEND;TZID=Europe/Amsterdam:20250306T213000
SUMMARY:Themabijeenkomst over "Wonen"
DESCRIPTION:Donderdag 6 maart organiseren wij een lezing over Woningen. Het
  vind plaats in Nijmegen in Wijkcentrum Burghardt ( Burghardt van Den Bergh
 straat 112\, 6512 DR Nijmegen ). De starttijd is 19:30. Houd de Arnhem-Nijm
 egen nieuwsbrief\, onze website en onze Whatsapp kanalen in de gaten. Je ku
 nt je  hier ervoor aanmelden.
LOCATION:Wijkcentrum Burghardt\, Nijmegen (Burghardt van Den Berghstraat 11
 2)
URL:https://voltnederland.org/gelderland/agenda/themabijeenkomst-over-wonen
END:VEVENT
END:VCALENDAR
