BEGIN:VCALENDAR
VERSION:2.0
PRODID:-//Volt Europa//Events//EN
CALSCALE:GREGORIAN
METHOD:PUBLISH
BEGIN:VEVENT
UID:themabijeenkomst-over-europa-1714671000@voltnederland.org
DTSTAMP:20260423T114247Z
DTSTART;TZID=Europe/Amsterdam:20240502T193000
DTEND;TZID=Europe/Amsterdam:20240502T210000
SUMMARY:Themabijeenkomst over Europa
DESCRIPTION:Het belang van de Europese Unie Op 2 mei zal vertelt Harry Rogg
 e\, geograaf\, leraar aardrijkskunde en oud-rector van een middelbare schoo
 l\, over de betekenis van de Europese Unie en de Raad van Europa. Doel van 
 de bijeenkomst is om met deze informatie een bijdrage te leveren aan het br
 ede maatschappelijke debat over dit onderwerp. Na afloop is er daarom nadru
 kkelijk ruimte voor vragen en discussie. Datum 2 mei 2024 Aanvang 19.30\, e
 inde circa 21.00 uur Dorpshuis De Lèghe Polder Schoolstraat 16 664
LOCATION:Dorpshuis De Lèghe Polder (Schoolstraat 16 6641 DC Beuningen)
URL:https://voltnederland.org/gelderland/agenda/themabijeenkomst-over-europ
 a
END:VEVENT
END:VCALENDAR
