BEGIN:VCALENDAR
VERSION:2.0
PRODID:-//Volt Europa//Events//EN
CALSCALE:GREGORIAN
METHOD:PUBLISH
BEGIN:VEVENT
UID:stemmen-1717651800@voltnederland.org
DTSTAMP:20260423T113925Z
DTSTART;TZID=Europe/Amsterdam:20240606T073000
DTEND;TZID=Europe/Amsterdam:20240606T210000
SUMMARY:Durf te stemmen op vernieuwing
DESCRIPTION:Stem vandaag Volt! Volt is voor betere Europese samenwerking en
  werkt aan een duurzaam en veilig Europa. Toch is Volt een partij die ook k
 ritisch is op de EU\, want de Europese Unie moet vernieuwen. Het moet t
 ransparanter\, democratischer\, efficiënter en veel effectiever.
LOCATION:stembureau
URL:https://voltnederland.org/gelderland/agenda/stemmen
END:VEVENT
END:VCALENDAR
