BEGIN:VCALENDAR
VERSION:2.0
PRODID:-//Volt Europa//Events//EN
CALSCALE:GREGORIAN
METHOD:PUBLISH
BEGIN:VEVENT
UID:stamtafel-wageningen-1729706400@voltnederland.org
DTSTAMP:20260423T114248Z
DTSTART;TZID=Europe/Amsterdam:20241023T200000
DTEND;TZID=Europe/Amsterdam:20241023T220000
SUMMARY:Stamtafel Wageningen
DESCRIPTION:Op woensdag 23 oktober organiseren wij een stamtafelavond in Wa
 geningen! Hier kun je op een informele manier meepraten over de gemeentepol
 itiek en de kansen voor Volt in de gemeente Wageningen. Je kunt vrijblijven
 d langskomen en je hoeft je niet op te geven. We zijn je graag verschijnen!
LOCATION:PROOST!  (5 Mei Plein 13\, Wageningen)
URL:https://voltnederland.org/gelderland/agenda/stamtafel-wageningen
END:VEVENT
END:VCALENDAR
