BEGIN:VCALENDAR
VERSION:2.0
PRODID:-//Volt Europa//Events//EN
CALSCALE:GREGORIAN
METHOD:PUBLISH
BEGIN:VEVENT
UID:stamtafel-oosterbeek-1732129200@voltnederland.org
DTSTAMP:20260423T114107Z
DTSTART;TZID=Europe/Amsterdam:20241120T200000
DTEND;TZID=Europe/Amsterdam:20241120T220000
SUMMARY:Stamtafel Oosterbeek
DESCRIPTION:Op woensdag 20 november organiseren wij een stamtafelavond in O
 osterbeek! Hier kun je op een informele manier meepraten over de gemeentepo
 litiek en de kansen voor Volt in de gemeente Renkum. Je kunt vrijblijvend l
 angskomen en je hoeft je niet op te geven. We zijn je graag verschijnen!
LOCATION:De Kreek (Weverstraat 24\, Oosterbeek)
URL:https://voltnederland.org/gelderland/agenda/stamtafel-oosterbeek
END:VEVENT
END:VCALENDAR
