BEGIN:VCALENDAR
VERSION:2.0
PRODID:-//Volt Europa//Events//EN
CALSCALE:GREGORIAN
METHOD:PUBLISH
BEGIN:VEVENT
UID:stamtafel-lochem-1732896000@voltnederland.org
DTSTAMP:20260423T113948Z
DTSTART;TZID=Europe/Amsterdam:20241129T170000
DTEND;TZID=Europe/Amsterdam:20241129T190000
SUMMARY:Stamtafel Lochem
DESCRIPTION:Zou je graag een keer in een informele sfeer kennismaken met an
 dere Volters in jouw gemeente of regio? Dat kan nu! Ontmoet andere Volters 
 uit jouw gemeente of regio. Ga bijvoorbeeld met ze in gesprek over de Europ
 ese verkiezingen of de volgende gemeenteraadsverkiezingen! Denk mee over Vo
 lt in de Achterhoek. Ga in gesprek met de kernteamleden van Volt Achterhoek
  of kom gewoon even gezellig buurten.  Neem vooral ook niet Volters mee zoa
 ls vrienden\, familie\, kennissen en andere geïnteresseerden. Ge
LOCATION:Cafe Bij de Buurman - Oosterwal 24 Lochem
URL:https://voltnederland.org/gelderland/agenda/stamtafel-lochem
END:VEVENT
END:VCALENDAR
