BEGIN:VCALENDAR
VERSION:2.0
PRODID:-//Volt Europa//Events//EN
CALSCALE:GREGORIAN
METHOD:PUBLISH
BEGIN:VEVENT
UID:stamtafel-ede-1727892000@voltnederland.org
DTSTAMP:20260423T102132Z
DTSTART;TZID=Europe/Amsterdam:20241002T200000
DTEND;TZID=Europe/Amsterdam:20241002T220000
SUMMARY:Stamtafel Ede
DESCRIPTION:Op woensdag 2 oktober organiseren wij een stamtafelavond in Ede
 ! Hier kun je op een informele manier meepraten over de gemeentepolitiek en
  de kansen voor Volt in de gemeente Ede. Je kunt vrijblijvend langskomen en
  je hoeft je niet op te geven. We zijn je graag verschijnen! * De locatie i
 s onder voorbehoud. Als de locatie gewijzigd wordt\, wordt dit gecommunicee
 rd via deze WhatsApp community. 
LOCATION:Substitute* (Nieuwe stationsstraat 27\, Ede)
URL:https://voltnederland.org/gelderland/agenda/stamtafel-ede
END:VEVENT
END:VCALENDAR
