BEGIN:VCALENDAR
VERSION:2.0
PRODID:-//Volt Europa//Events//EN
CALSCALE:GREGORIAN
METHOD:PUBLISH
BEGIN:VEVENT
UID:stamtafel-doetinchem-1734026400@voltnederland.org
DTSTAMP:20260423T142923Z
DTSTART;TZID=Europe/Amsterdam:20241212T190000
DTEND;TZID=Europe/Amsterdam:20241212T210000
SUMMARY:Stamtafel Doetinchem
DESCRIPTION:Wil je in een informele sfeer kennismaken met andere Volters in
  jouw gemeente of regio? Dit is je kans! Kom langs en ontmoet andere Volter
 s\, denk mee over gemeentepolitiek en de kansen voor Volt in Doetinchem. Of
  kom gewoon gezellig buurten! Breng vooral ook vrienden\, familie\, kenniss
 en en andere geïnteresseerden mee. Wanneer?  Donderdag 12 december vanaf 1
 9.00 uur. Waar?  We zitten boven bij Vanouds\, Grutstraat 43 te Doetinchem.
  Zien we je aan de stamtafel  💜
LOCATION:Grutstraat 43\, 7001 BW Doetinchem
URL:https://voltnederland.org/gelderland/agenda/stamtafel-doetinchem
END:VEVENT
END:VCALENDAR
